BEGIN:VCALENDAR
VERSION:2.0
PRODID:-//ExpressionEngine Easy iCalendar plugin//NONSGML v2.0.0//EN
X-WR-TIMEZONE:America/New_York
X-WR-CALNAME:Upcoming Auctions
BEGIN:VEVENT
UID:147871
DTSTAMP:20250915T080000
DTSTART:20250915T080000
DTEND:20250929T180000
SUMMARY:Thomasville City Schools Warehouse Surplus Auction
LOCATION:901 East Jackson Street\, Thomasville\, GA 31792\, US
DESCRIPTION:Thomasville City Schools is offering a variety of surplus it
 ems that are no longer needed after moving into the new buil
 ding — giving the community a chance to put them to good u
 se. This online auction features tools\, stadium signage\, off
 ice supplies\, desks\, chairs\, cafeteria equipment\, and more. 
 Whether you’re outfitting a workspace\, stocking up on supp
 lies\, or just looking for a unique find\, there’s something
  for everyone. Don’t miss this opportunity to bid and brin
 g home quality items!
URL:https://www.wiregrassauctiongroup.com/auctions/detail/bw1478
 71
SEQUENCE:1
END:VEVENT
END:VCALENDAR