BEGIN:VCALENDAR
VERSION:2.0
PRODID:-//ExpressionEngine Easy iCalendar plugin//NONSGML v2.0.1//EN
X-WR-TIMEZONE:America/New_York
X-WR-CALNAME:Upcoming Auctions
BEGIN:VEVENT
UID:149570
DTSTAMP:20251125T080000
DTSTART:20251125T080000
DTEND:20251209T180000
SUMMARY:Gold\, Diamond and Pearl Jewelry\, Artwork\, Vintage Furniture\,
  Home Decor\, and More!
LOCATION:13035 US Hwy 319 N Suite G\, Thomasville\, GA 31757\, US
DESCRIPTION:You don't want to miss the Gold\, Diamond and Pearl Jewelry\, 
 Artwork\, Vintage Furniture\, Home Decor\, and More! auction on
  December 9\, 2025 at 6:00pm. You'll also find a stylish sel
 ection of vintage and designer-inspired furniture including 
 beautifully upholstered sofas\, classic armchairs\, cane-back 
 seating\, and other standout pieces ready to find new homes. 
 Whether you're furnishing a room or adding a signature accen
 t piece\, these items offer exceptional craftsmanship and cha
 rm.
URL:https://www.wiregrassauctiongroup.com/auctions/detail/bw1495
 70
SEQUENCE:1
END:VEVENT
END:VCALENDAR