BEGIN:VCALENDAR
VERSION:2.0
PRODID:-//ExpressionEngine Easy iCalendar plugin//NONSGML v2.0.1//EN
X-WR-TIMEZONE:America/New_York
X-WR-CALNAME:Upcoming Auctions
BEGIN:VEVENT
UID:150481
DTSTAMP:20260310T080000
DTSTART:20260310T080000
DTEND:20260324T180000
SUMMARY:Spring Equipment Auction 2026
LOCATION:13035 US Hwy 319N\, Thomasville\, GA 31757\, US
DESCRIPTION:Hundreds of items will sell to the highest bidder in this on
 line Spring Equipment Auction. This sale features factory-di
 rect equipment including Mini Skid Steers\, Mini Excavators\, 
 Golf Carts\, numerous 40-foot shipping containers\, and a wide
  variety of attachments\, along with vehicles\, equipment\, pow
 er tools\, hand tools\, and more. Whether you're a contractor\,
  farmer\, dealer\, or equipment buyer\, this auction offers a g
 reat opportunity to purchase quality equipment at competitiv
 e auction prices.
URL:https://www.wiregrassauctiongroup.com/auctions/detail/bw1504
 81
SEQUENCE:1
END:VEVENT
END:VCALENDAR