BEGIN:VCALENDAR
VERSION:2.0
PRODID:-//ExpressionEngine Easy iCalendar plugin//NONSGML v2.0.1//EN
X-WR-TIMEZONE:America/New_York
X-WR-CALNAME:Upcoming Auctions
BEGIN:VEVENT
UID:151296
DTSTAMP:20251125T080000
DTSTART:20251125T080000
DTEND:20251209T180000
SUMMARY:December Gallery Auction featuring Vintage Collectibles\, Art
 work\, Home Decor and More! 
LOCATION:13035 US Hwy 319 N\, Suite G\, Thomasville\, GA 31792\, US
DESCRIPTION:Step into a treasure trove of nostalgia with this collection
  of vintage collectibles\, artwork\, home decor and more! Whet
 her you're a collector\, decorator\, or holiday gift hunter\, t
 his auction is packed with rare finds and unique surprises. 
 Many lots include new old stock editions\, and the variety of
  collectibles ensures something for every taste. Don’t mis
 s your chance to bid on timeless pieces from multiple eras.
URL:https://www.wiregrassauctiongroup.com/auctions/detail/bw1512
 96
SEQUENCE:1
END:VEVENT
END:VCALENDAR