BEGIN:VCALENDAR
VERSION:2.0
PRODID:-//ExpressionEngine Easy iCalendar plugin//NONSGML v2.0.0//EN
X-WR-TIMEZONE:America/New_York
X-WR-CALNAME:Upcoming Auctions
BEGIN:VEVENT
UID:157124
DTSTAMP:20260412T120000
DTSTART:20260412T120000
DTEND:20260419T190000
SUMMARY:2026 TFMC Meatballs for Missions Auction
LOCATION:425 N. Broad Street\, Thomasville\, GA 31792\, US
DESCRIPTION:Join the Thomasville First Methodist Church Mission Team on 
 Sunday \,April 19th\,  for the 4rd Annual Meatballs for Missi
 ons Dinner and Auction. ​​​
URL:https://www.wiregrassauctiongroup.com/auctions/detail/bw1571
 24
SEQUENCE:1
END:VEVENT
END:VCALENDAR