BEGIN:VCALENDAR
VERSION:2.0
PRODID:-//ExpressionEngine Easy iCalendar plugin//NONSGML v2.0.1//EN
X-WR-TIMEZONE:America/New_York
X-WR-CALNAME:Upcoming Auctions
BEGIN:VEVENT
UID:55658
DTSTAMP:20201027T100000
DTSTART:20201027T100000
DTEND:20201110T160000
SUMMARY:Now Selling at Absolute Auction! 204 +/- Acres Irwin County\,
  Georgia
LOCATION:1120 Reagan Road\, Rebecca\, GA 31783\, US
DESCRIPTION:Wiregrass Auction Group is pleased to bring to market this e
 xcellent 204 +/- Acre farm in Irwin County Georgia. This far
 m has something for everyone\, from productive cropland to th
 ree beautiful ponds for sport fishing\, duck hunting\, or irri
 gation and is a farm anyone would be proud to own. The farm 
 is setup for irrigation with risers located throughout the c
 ropland. An excellent stand of planted pine timber can be th
 inned for immediate income. A gorgeous homesite on a grassy 
 knoll overlooks 14 +/- Acre Bowen Lake. If you are intereste
 d in expanding your farmland holdings or buying for the firs
 t time\, this is an auction you will not want to miss!
URL:https://www.wiregrassauctiongroup.com/auctions/detail/bw5565
 8
SEQUENCE:1
END:VEVENT
END:VCALENDAR